BEGIN:VCALENDAR
VERSION:2.0
PRODID:-//Seattle Insight - ECPv6.15.20//NONSGML v1.0//EN
CALSCALE:GREGORIAN
METHOD:PUBLISH
X-ORIGINAL-URL:https://seattleinsight.org
X-WR-CALDESC:Events for Seattle Insight
REFRESH-INTERVAL;VALUE=DURATION:PT1H
X-Robots-Tag:noindex
X-PUBLISHED-TTL:PT1H
BEGIN:VTIMEZONE
TZID:America/Los_Angeles
BEGIN:DAYLIGHT
TZOFFSETFROM:-0800
TZOFFSETTO:-0700
TZNAME:PDT
DTSTART:20240310T100000
END:DAYLIGHT
BEGIN:STANDARD
TZOFFSETFROM:-0700
TZOFFSETTO:-0800
TZNAME:PST
DTSTART:20241103T090000
END:STANDARD
BEGIN:DAYLIGHT
TZOFFSETFROM:-0800
TZOFFSETTO:-0700
TZNAME:PDT
DTSTART:20250309T100000
END:DAYLIGHT
BEGIN:STANDARD
TZOFFSETFROM:-0700
TZOFFSETTO:-0800
TZNAME:PST
DTSTART:20251102T090000
END:STANDARD
BEGIN:DAYLIGHT
TZOFFSETFROM:-0800
TZOFFSETTO:-0700
TZNAME:PDT
DTSTART:20260308T100000
END:DAYLIGHT
BEGIN:STANDARD
TZOFFSETFROM:-0700
TZOFFSETTO:-0800
TZNAME:PST
DTSTART:20261101T090000
END:STANDARD
BEGIN:DAYLIGHT
TZOFFSETFROM:-0800
TZOFFSETTO:-0700
TZNAME:PDT
DTSTART:20270314T100000
END:DAYLIGHT
BEGIN:STANDARD
TZOFFSETFROM:-0700
TZOFFSETTO:-0800
TZNAME:PST
DTSTART:20271107T090000
END:STANDARD
END:VTIMEZONE
BEGIN:VEVENT
DTSTART;TZID=America/Los_Angeles:20260414T190000
DTEND;TZID=America/Los_Angeles:20260414T203000
DTSTAMP:20260421T011259
CREATED:20230507T203646Z
LAST-MODIFIED:20251230T141559Z
UID:10006889-1776193200-1776198600@seattleinsight.org
SUMMARY:Climate Action Group (Online)
DESCRIPTION:The Climate Action Group at Seattle Insight was started in May of 2018 by a few sangha members concerned about the climate crisis. We are interested in working within our sangha and from the ground of our Dharma practice to learn\, understand\, connect\, and with wise intention and view\, take appropriate actions. \nWe meet monthly and have sponsored several programs at Seattle Insight. We have an online bulletin board with our mission\, goals\, and meeting notes\, as well as a variety of resources to deepen understanding of the climate crisis and how to take meaningful action.  We offer “Practices for a livable planet” as one way to engage with the climate crisis as Buddhist practitioners. \nSigning up to be on our email list provides access to our bulletin board and monthly invitations to attend our meetings. If you are interested in getting on our email list\, please email Ken Yasuhara. If you would like more information about the group\, please contact Iris Antman.
URL:https://seattleinsight.org/event/climate-action-group-online-2024-01-09/2026-04-14/
LOCATION:Online Only Event\, Zoom
CATEGORIES:Engaged Buddhism
ATTACH;FMTTYPE=image/jpeg:https://seattleinsight.org/wp-content/uploads/2023/05/nasa-earth.jpg
ORGANIZER;CN="Climate Action Group":MAILTO:ken@seattleinsight.org
GEO:47.65632;-122.31895
X-APPLE-STRUCTURED-LOCATION;VALUE=URI;X-ADDRESS=Online Only Event Zoom;X-APPLE-RADIUS=500;X-TITLE=Zoom:geo:-122.31895,47.65632
END:VEVENT
BEGIN:VEVENT
DTSTART;TZID=America/Los_Angeles:20260310T190000
DTEND;TZID=America/Los_Angeles:20260310T203000
DTSTAMP:20260421T011259
CREATED:20230507T203646Z
LAST-MODIFIED:20251230T141559Z
UID:10006888-1773169200-1773174600@seattleinsight.org
SUMMARY:Climate Action Group (Online)
DESCRIPTION:The Climate Action Group at Seattle Insight was started in May of 2018 by a few sangha members concerned about the climate crisis. We are interested in working within our sangha and from the ground of our Dharma practice to learn\, understand\, connect\, and with wise intention and view\, take appropriate actions. \nWe meet monthly and have sponsored several programs at Seattle Insight. We have an online bulletin board with our mission\, goals\, and meeting notes\, as well as a variety of resources to deepen understanding of the climate crisis and how to take meaningful action.  We offer “Practices for a livable planet” as one way to engage with the climate crisis as Buddhist practitioners. \nSigning up to be on our email list provides access to our bulletin board and monthly invitations to attend our meetings. If you are interested in getting on our email list\, please email Ken Yasuhara. If you would like more information about the group\, please contact Iris Antman.
URL:https://seattleinsight.org/event/climate-action-group-online-2024-01-09/2026-03-10/
LOCATION:Online Only Event\, Zoom
CATEGORIES:Engaged Buddhism
ATTACH;FMTTYPE=image/jpeg:https://seattleinsight.org/wp-content/uploads/2023/05/nasa-earth.jpg
ORGANIZER;CN="Climate Action Group":MAILTO:ken@seattleinsight.org
GEO:47.65632;-122.31895
X-APPLE-STRUCTURED-LOCATION;VALUE=URI;X-ADDRESS=Online Only Event Zoom;X-APPLE-RADIUS=500;X-TITLE=Zoom:geo:-122.31895,47.65632
END:VEVENT
BEGIN:VEVENT
DTSTART;TZID=America/Los_Angeles:20260210T190000
DTEND;TZID=America/Los_Angeles:20260210T203000
DTSTAMP:20260421T011259
CREATED:20230507T203646Z
LAST-MODIFIED:20251230T141559Z
UID:10006887-1770750000-1770755400@seattleinsight.org
SUMMARY:Climate Action Group (Online)
DESCRIPTION:The Climate Action Group at Seattle Insight was started in May of 2018 by a few sangha members concerned about the climate crisis. We are interested in working within our sangha and from the ground of our Dharma practice to learn\, understand\, connect\, and with wise intention and view\, take appropriate actions. \nWe meet monthly and have sponsored several programs at Seattle Insight. We have an online bulletin board with our mission\, goals\, and meeting notes\, as well as a variety of resources to deepen understanding of the climate crisis and how to take meaningful action.  We offer “Practices for a livable planet” as one way to engage with the climate crisis as Buddhist practitioners. \nSigning up to be on our email list provides access to our bulletin board and monthly invitations to attend our meetings. If you are interested in getting on our email list\, please email Ken Yasuhara. If you would like more information about the group\, please contact Iris Antman.
URL:https://seattleinsight.org/event/climate-action-group-online-2024-01-09/2026-02-10/
LOCATION:Online Only Event\, Zoom
CATEGORIES:Engaged Buddhism
ATTACH;FMTTYPE=image/jpeg:https://seattleinsight.org/wp-content/uploads/2023/05/nasa-earth.jpg
ORGANIZER;CN="Climate Action Group":MAILTO:ken@seattleinsight.org
GEO:47.65632;-122.31895
X-APPLE-STRUCTURED-LOCATION;VALUE=URI;X-ADDRESS=Online Only Event Zoom;X-APPLE-RADIUS=500;X-TITLE=Zoom:geo:-122.31895,47.65632
END:VEVENT
BEGIN:VEVENT
DTSTART;TZID=America/Los_Angeles:20260113T190000
DTEND;TZID=America/Los_Angeles:20260113T203000
DTSTAMP:20260421T011259
CREATED:20230507T203646Z
LAST-MODIFIED:20251230T141559Z
UID:10006886-1768330800-1768336200@seattleinsight.org
SUMMARY:Climate Action Group (Online)
DESCRIPTION:The Climate Action Group at Seattle Insight was started in May of 2018 by a few sangha members concerned about the climate crisis. We are interested in working within our sangha and from the ground of our Dharma practice to learn\, understand\, connect\, and with wise intention and view\, take appropriate actions. \nWe meet monthly and have sponsored several programs at Seattle Insight. We have an online bulletin board with our mission\, goals\, and meeting notes\, as well as a variety of resources to deepen understanding of the climate crisis and how to take meaningful action.  We offer “Practices for a livable planet” as one way to engage with the climate crisis as Buddhist practitioners. \nSigning up to be on our email list provides access to our bulletin board and monthly invitations to attend our meetings. If you are interested in getting on our email list\, please email Ken Yasuhara. If you would like more information about the group\, please contact Iris Antman.
URL:https://seattleinsight.org/event/climate-action-group-online-2024-01-09/2026-01-13/
LOCATION:Online Only Event\, Zoom
CATEGORIES:Engaged Buddhism
ATTACH;FMTTYPE=image/jpeg:https://seattleinsight.org/wp-content/uploads/2023/05/nasa-earth.jpg
ORGANIZER;CN="Climate Action Group":MAILTO:ken@seattleinsight.org
GEO:47.65632;-122.31895
X-APPLE-STRUCTURED-LOCATION;VALUE=URI;X-ADDRESS=Online Only Event Zoom;X-APPLE-RADIUS=500;X-TITLE=Zoom:geo:-122.31895,47.65632
END:VEVENT
BEGIN:VEVENT
DTSTART;TZID=America/Los_Angeles:20251209T190000
DTEND;TZID=America/Los_Angeles:20251209T203000
DTSTAMP:20260421T011259
CREATED:20230507T203646Z
LAST-MODIFIED:20251230T141559Z
UID:10006885-1765306800-1765312200@seattleinsight.org
SUMMARY:Climate Action Group (Online)
DESCRIPTION:The Climate Action Group at Seattle Insight was started in May of 2018 by a few sangha members concerned about the climate crisis. We are interested in working within our sangha and from the ground of our Dharma practice to learn\, understand\, connect\, and with wise intention and view\, take appropriate actions. \nWe meet monthly and have sponsored several programs at Seattle Insight. We have an online bulletin board with our mission\, goals\, and meeting notes\, as well as a variety of resources to deepen understanding of the climate crisis and how to take meaningful action.  We offer “Practices for a livable planet” as one way to engage with the climate crisis as Buddhist practitioners. \nSigning up to be on our email list provides access to our bulletin board and monthly invitations to attend our meetings. If you are interested in getting on our email list\, please email Ken Yasuhara. If you would like more information about the group\, please contact Iris Antman.
URL:https://seattleinsight.org/event/climate-action-group-online-2024-01-09/2025-12-09/
LOCATION:Online Only Event\, Zoom
CATEGORIES:Engaged Buddhism
ATTACH;FMTTYPE=image/jpeg:https://seattleinsight.org/wp-content/uploads/2023/05/nasa-earth.jpg
ORGANIZER;CN="Climate Action Group":MAILTO:ken@seattleinsight.org
GEO:47.65632;-122.31895
X-APPLE-STRUCTURED-LOCATION;VALUE=URI;X-ADDRESS=Online Only Event Zoom;X-APPLE-RADIUS=500;X-TITLE=Zoom:geo:-122.31895,47.65632
END:VEVENT
BEGIN:VEVENT
DTSTART;TZID=America/Los_Angeles:20251111T190000
DTEND;TZID=America/Los_Angeles:20251111T203000
DTSTAMP:20260421T011259
CREATED:20230507T203646Z
LAST-MODIFIED:20251230T141559Z
UID:10006884-1762887600-1762893000@seattleinsight.org
SUMMARY:Climate Action Group (Online)
DESCRIPTION:The Climate Action Group at Seattle Insight was started in May of 2018 by a few sangha members concerned about the climate crisis. We are interested in working within our sangha and from the ground of our Dharma practice to learn\, understand\, connect\, and with wise intention and view\, take appropriate actions. \nWe meet monthly and have sponsored several programs at Seattle Insight. We have an online bulletin board with our mission\, goals\, and meeting notes\, as well as a variety of resources to deepen understanding of the climate crisis and how to take meaningful action.  We offer “Practices for a livable planet” as one way to engage with the climate crisis as Buddhist practitioners. \nSigning up to be on our email list provides access to our bulletin board and monthly invitations to attend our meetings. If you are interested in getting on our email list\, please email Ken Yasuhara. If you would like more information about the group\, please contact Iris Antman.
URL:https://seattleinsight.org/event/climate-action-group-online-2024-01-09/2025-11-11/
LOCATION:Online Only Event\, Zoom
CATEGORIES:Engaged Buddhism
ATTACH;FMTTYPE=image/jpeg:https://seattleinsight.org/wp-content/uploads/2023/05/nasa-earth.jpg
ORGANIZER;CN="Climate Action Group":MAILTO:ken@seattleinsight.org
GEO:47.65632;-122.31895
X-APPLE-STRUCTURED-LOCATION;VALUE=URI;X-ADDRESS=Online Only Event Zoom;X-APPLE-RADIUS=500;X-TITLE=Zoom:geo:-122.31895,47.65632
END:VEVENT
BEGIN:VEVENT
DTSTART;TZID=America/Los_Angeles:20251014T190000
DTEND;TZID=America/Los_Angeles:20251014T203000
DTSTAMP:20260421T011259
CREATED:20230507T203646Z
LAST-MODIFIED:20251230T141559Z
UID:10006883-1760468400-1760473800@seattleinsight.org
SUMMARY:Climate Action Group (Online)
DESCRIPTION:The Climate Action Group at Seattle Insight was started in May of 2018 by a few sangha members concerned about the climate crisis. We are interested in working within our sangha and from the ground of our Dharma practice to learn\, understand\, connect\, and with wise intention and view\, take appropriate actions. \nWe meet monthly and have sponsored several programs at Seattle Insight. We have an online bulletin board with our mission\, goals\, and meeting notes\, as well as a variety of resources to deepen understanding of the climate crisis and how to take meaningful action.  We offer “Practices for a livable planet” as one way to engage with the climate crisis as Buddhist practitioners. \nSigning up to be on our email list provides access to our bulletin board and monthly invitations to attend our meetings. If you are interested in getting on our email list\, please email Ken Yasuhara. If you would like more information about the group\, please contact Iris Antman.
URL:https://seattleinsight.org/event/climate-action-group-online-2024-01-09/2025-10-14/
LOCATION:Online Only Event\, Zoom
CATEGORIES:Engaged Buddhism
ATTACH;FMTTYPE=image/jpeg:https://seattleinsight.org/wp-content/uploads/2023/05/nasa-earth.jpg
ORGANIZER;CN="Climate Action Group":MAILTO:ken@seattleinsight.org
GEO:47.65632;-122.31895
X-APPLE-STRUCTURED-LOCATION;VALUE=URI;X-ADDRESS=Online Only Event Zoom;X-APPLE-RADIUS=500;X-TITLE=Zoom:geo:-122.31895,47.65632
END:VEVENT
BEGIN:VEVENT
DTSTART;TZID=America/Los_Angeles:20251012T130000
DTEND;TZID=America/Los_Angeles:20251012T150000
DTSTAMP:20260421T011259
CREATED:20250904T012500Z
LAST-MODIFIED:20250928T031945Z
UID:10008981-1760274000-1760281200@seattleinsight.org
SUMMARY:Meditation Walk at Seward Park
DESCRIPTION:Seattle Insight’s Climate Action Group invites you to another Meditation Walk in the ancient\, magical forest at Seward Park on Sunday\, October 12\, from 1:00 to 3:00 PM. \nWe will meet in the meadow adjacent to Shelter #3 across the road from the trailhead and near the bathrooms: https://maps.app.goo.gl/pgUhDpTj1QxWwuaW9 \nWe’ll have an initial circle\, offer a land acknowledgment\, followed by suggestions of intentions or ideas for contemplation as we walk for about an hour through the forest. Please join us for a precious time of deep connection with the natural world. \nThere is ample parking available\, but please carpool or take public transit\, if possible. Metro Bus 50 stops a block from the park entrance. We can arrange to pick up a limited number of people at the Columbia City light rail station. If you want to be picked up from the light rail station\, contact Iris at antwomaniris@gmail.com.
URL:https://seattleinsight.org/event/meditation-walk-at-seward-park-2/
LOCATION:Seward Park\, Seattle\, WA\, Seward Park\, Seattle\, WA\, 98118\, United States
CATEGORIES:Affinity Groups,Engaged Buddhism,Featured
ATTACH;FMTTYPE=image/png:https://seattleinsight.org/wp-content/uploads/2023/05/seward-park-walking-meditation-route-500x500-1.png
ORGANIZER;CN="Climate Action Group":MAILTO:ken@seattleinsight.org
GEO:47.55215;-122.25552
X-APPLE-STRUCTURED-LOCATION;VALUE=URI;X-ADDRESS=Seward Park Seattle WA Seward Park Seattle WA 98118 United States;X-APPLE-RADIUS=500;X-TITLE=Seward Park:geo:-122.25552,47.55215
END:VEVENT
BEGIN:VEVENT
DTSTART;TZID=America/Los_Angeles:20250909T190000
DTEND;TZID=America/Los_Angeles:20250909T203000
DTSTAMP:20260421T011259
CREATED:20230507T203646Z
LAST-MODIFIED:20251230T141559Z
UID:10006882-1757444400-1757449800@seattleinsight.org
SUMMARY:Climate Action Group (Online)
DESCRIPTION:The Climate Action Group at Seattle Insight was started in May of 2018 by a few sangha members concerned about the climate crisis. We are interested in working within our sangha and from the ground of our Dharma practice to learn\, understand\, connect\, and with wise intention and view\, take appropriate actions. \nWe meet monthly and have sponsored several programs at Seattle Insight. We have an online bulletin board with our mission\, goals\, and meeting notes\, as well as a variety of resources to deepen understanding of the climate crisis and how to take meaningful action.  We offer “Practices for a livable planet” as one way to engage with the climate crisis as Buddhist practitioners. \nSigning up to be on our email list provides access to our bulletin board and monthly invitations to attend our meetings. If you are interested in getting on our email list\, please email Ken Yasuhara. If you would like more information about the group\, please contact Iris Antman.
URL:https://seattleinsight.org/event/climate-action-group-online-2024-01-09/2025-09-09/
LOCATION:Online Only Event\, Zoom
CATEGORIES:Engaged Buddhism
ATTACH;FMTTYPE=image/jpeg:https://seattleinsight.org/wp-content/uploads/2023/05/nasa-earth.jpg
ORGANIZER;CN="Climate Action Group":MAILTO:ken@seattleinsight.org
GEO:47.65632;-122.31895
X-APPLE-STRUCTURED-LOCATION;VALUE=URI;X-ADDRESS=Online Only Event Zoom;X-APPLE-RADIUS=500;X-TITLE=Zoom:geo:-122.31895,47.65632
END:VEVENT
BEGIN:VEVENT
DTSTART;TZID=America/Los_Angeles:20250812T190000
DTEND;TZID=America/Los_Angeles:20250812T203000
DTSTAMP:20260421T011259
CREATED:20230507T203646Z
LAST-MODIFIED:20251230T141559Z
UID:10006881-1755025200-1755030600@seattleinsight.org
SUMMARY:Climate Action Group (Online)
DESCRIPTION:The Climate Action Group at Seattle Insight was started in May of 2018 by a few sangha members concerned about the climate crisis. We are interested in working within our sangha and from the ground of our Dharma practice to learn\, understand\, connect\, and with wise intention and view\, take appropriate actions. \nWe meet monthly and have sponsored several programs at Seattle Insight. We have an online bulletin board with our mission\, goals\, and meeting notes\, as well as a variety of resources to deepen understanding of the climate crisis and how to take meaningful action.  We offer “Practices for a livable planet” as one way to engage with the climate crisis as Buddhist practitioners. \nSigning up to be on our email list provides access to our bulletin board and monthly invitations to attend our meetings. If you are interested in getting on our email list\, please email Ken Yasuhara. If you would like more information about the group\, please contact Iris Antman.
URL:https://seattleinsight.org/event/climate-action-group-online-2024-01-09/2025-08-12/
LOCATION:Online Only Event\, Zoom
CATEGORIES:Engaged Buddhism
ATTACH;FMTTYPE=image/jpeg:https://seattleinsight.org/wp-content/uploads/2023/05/nasa-earth.jpg
ORGANIZER;CN="Climate Action Group":MAILTO:ken@seattleinsight.org
GEO:47.65632;-122.31895
X-APPLE-STRUCTURED-LOCATION;VALUE=URI;X-ADDRESS=Online Only Event Zoom;X-APPLE-RADIUS=500;X-TITLE=Zoom:geo:-122.31895,47.65632
END:VEVENT
BEGIN:VEVENT
DTSTART;TZID=America/Los_Angeles:20250708T190000
DTEND;TZID=America/Los_Angeles:20250708T203000
DTSTAMP:20260421T011259
CREATED:20230507T203646Z
LAST-MODIFIED:20251230T141559Z
UID:10006880-1752001200-1752006600@seattleinsight.org
SUMMARY:Climate Action Group (Online)
DESCRIPTION:The Climate Action Group at Seattle Insight was started in May of 2018 by a few sangha members concerned about the climate crisis. We are interested in working within our sangha and from the ground of our Dharma practice to learn\, understand\, connect\, and with wise intention and view\, take appropriate actions. \nWe meet monthly and have sponsored several programs at Seattle Insight. We have an online bulletin board with our mission\, goals\, and meeting notes\, as well as a variety of resources to deepen understanding of the climate crisis and how to take meaningful action.  We offer “Practices for a livable planet” as one way to engage with the climate crisis as Buddhist practitioners. \nSigning up to be on our email list provides access to our bulletin board and monthly invitations to attend our meetings. If you are interested in getting on our email list\, please email Ken Yasuhara. If you would like more information about the group\, please contact Iris Antman.
URL:https://seattleinsight.org/event/climate-action-group-online-2024-01-09/2025-07-08/
LOCATION:Online Only Event\, Zoom
CATEGORIES:Engaged Buddhism
ATTACH;FMTTYPE=image/jpeg:https://seattleinsight.org/wp-content/uploads/2023/05/nasa-earth.jpg
ORGANIZER;CN="Climate Action Group":MAILTO:ken@seattleinsight.org
GEO:47.65632;-122.31895
X-APPLE-STRUCTURED-LOCATION;VALUE=URI;X-ADDRESS=Online Only Event Zoom;X-APPLE-RADIUS=500;X-TITLE=Zoom:geo:-122.31895,47.65632
END:VEVENT
BEGIN:VEVENT
DTSTART;TZID=America/Los_Angeles:20250610T190000
DTEND;TZID=America/Los_Angeles:20250610T203000
DTSTAMP:20260421T011259
CREATED:20230507T203646Z
LAST-MODIFIED:20251230T141559Z
UID:10006879-1749582000-1749587400@seattleinsight.org
SUMMARY:Climate Action Group (Online)
DESCRIPTION:The Climate Action Group at Seattle Insight was started in May of 2018 by a few sangha members concerned about the climate crisis. We are interested in working within our sangha and from the ground of our Dharma practice to learn\, understand\, connect\, and with wise intention and view\, take appropriate actions. \nWe meet monthly and have sponsored several programs at Seattle Insight. We have an online bulletin board with our mission\, goals\, and meeting notes\, as well as a variety of resources to deepen understanding of the climate crisis and how to take meaningful action.  We offer “Practices for a livable planet” as one way to engage with the climate crisis as Buddhist practitioners. \nSigning up to be on our email list provides access to our bulletin board and monthly invitations to attend our meetings. If you are interested in getting on our email list\, please email Ken Yasuhara. If you would like more information about the group\, please contact Iris Antman.
URL:https://seattleinsight.org/event/climate-action-group-online-2024-01-09/2025-06-10/
LOCATION:Online Only Event\, Zoom
CATEGORIES:Engaged Buddhism
ATTACH;FMTTYPE=image/jpeg:https://seattleinsight.org/wp-content/uploads/2023/05/nasa-earth.jpg
ORGANIZER;CN="Climate Action Group":MAILTO:ken@seattleinsight.org
GEO:47.65632;-122.31895
X-APPLE-STRUCTURED-LOCATION;VALUE=URI;X-ADDRESS=Online Only Event Zoom;X-APPLE-RADIUS=500;X-TITLE=Zoom:geo:-122.31895,47.65632
END:VEVENT
BEGIN:VEVENT
DTSTART;TZID=America/Los_Angeles:20250513T190000
DTEND;TZID=America/Los_Angeles:20250513T203000
DTSTAMP:20260421T011259
CREATED:20230507T203646Z
LAST-MODIFIED:20251230T141559Z
UID:10006878-1747162800-1747168200@seattleinsight.org
SUMMARY:Climate Action Group (Online)
DESCRIPTION:The Climate Action Group at Seattle Insight was started in May of 2018 by a few sangha members concerned about the climate crisis. We are interested in working within our sangha and from the ground of our Dharma practice to learn\, understand\, connect\, and with wise intention and view\, take appropriate actions. \nWe meet monthly and have sponsored several programs at Seattle Insight. We have an online bulletin board with our mission\, goals\, and meeting notes\, as well as a variety of resources to deepen understanding of the climate crisis and how to take meaningful action.  We offer “Practices for a livable planet” as one way to engage with the climate crisis as Buddhist practitioners. \nSigning up to be on our email list provides access to our bulletin board and monthly invitations to attend our meetings. If you are interested in getting on our email list\, please email Ken Yasuhara. If you would like more information about the group\, please contact Iris Antman.
URL:https://seattleinsight.org/event/climate-action-group-online-2024-01-09/2025-05-13/
LOCATION:Online Only Event\, Zoom
CATEGORIES:Engaged Buddhism
ATTACH;FMTTYPE=image/jpeg:https://seattleinsight.org/wp-content/uploads/2023/05/nasa-earth.jpg
ORGANIZER;CN="Climate Action Group":MAILTO:ken@seattleinsight.org
GEO:47.65632;-122.31895
X-APPLE-STRUCTURED-LOCATION;VALUE=URI;X-ADDRESS=Online Only Event Zoom;X-APPLE-RADIUS=500;X-TITLE=Zoom:geo:-122.31895,47.65632
END:VEVENT
BEGIN:VEVENT
DTSTART;TZID=America/Los_Angeles:20250427T130000
DTEND;TZID=America/Los_Angeles:20250427T150000
DTSTAMP:20260421T011259
CREATED:20250310T165743Z
LAST-MODIFIED:20250426T111953Z
UID:10008024-1745758800-1745766000@seattleinsight.org
SUMMARY:Meditation Walk at Seward Park
DESCRIPTION:The SIMS Climate Action Group invites you to another Meditation Walk in the ancient\, magical forest at Seward Park on Sunday\, April 27\, from 1:00 to 3:00 PM. \nWe will meet in the meadow adjacent to Shelter #3 across the road from the trailhead and near the bathrooms:\nhttps://maps.app.goo.gl/pgUhDpTj1QxWwuaW9 \nWe’ll have an initial circle\, offer a land acknowledgment\, followed by suggestions of intentions or ideas for contemplation as we walk for about an hour through the forest. On our walks\, we usually stop at a magnificent western redcedar before turning back. On this walk\, we’ll continue down the main path to a Douglas fir estimated to be between 400 and 500 years old—the oldest tree in Seattle. Please join us for a precious time of deep connection with the natural world. \nThere is ample parking available\, but please carpool or take public transit\, if possible. Metro Bus 50 stops a block from the park entrance. We can arrange to pick up a limited number of people at the Columbia City light rail station. If you want to be picked up from the light rail station\, contact Iris at antwomaniris@gmail.com.
URL:https://seattleinsight.org/event/meditation-walk-at-seward-park-4/
LOCATION:Seward Park\, Seattle\, WA\, Seward Park\, Seattle\, WA\, 98118\, United States
CATEGORIES:Engaged Buddhism
ATTACH;FMTTYPE=image/jpeg:https://seattleinsight.org/wp-content/uploads/2023/05/seward-park-heron-in-tree.jpg
ORGANIZER;CN="Climate Action Group":MAILTO:ken@seattleinsight.org
GEO:47.55215;-122.25552
X-APPLE-STRUCTURED-LOCATION;VALUE=URI;X-ADDRESS=Seward Park Seattle WA Seward Park Seattle WA 98118 United States;X-APPLE-RADIUS=500;X-TITLE=Seward Park:geo:-122.25552,47.55215
END:VEVENT
END:VCALENDAR