BEGIN:VCALENDAR
VERSION:2.0
PRODID:-//Seattle Insight - ECPv6.15.20//NONSGML v1.0//EN
CALSCALE:GREGORIAN
METHOD:PUBLISH
X-ORIGINAL-URL:https://seattleinsight.org
X-WR-CALDESC:Events for Seattle Insight
REFRESH-INTERVAL;VALUE=DURATION:PT1H
X-Robots-Tag:noindex
X-PUBLISHED-TTL:PT1H
BEGIN:VTIMEZONE
TZID:America/Los_Angeles
BEGIN:DAYLIGHT
TZOFFSETFROM:-0800
TZOFFSETTO:-0700
TZNAME:PDT
DTSTART:20250309T100000
END:DAYLIGHT
BEGIN:STANDARD
TZOFFSETFROM:-0700
TZOFFSETTO:-0800
TZNAME:PST
DTSTART:20251102T090000
END:STANDARD
BEGIN:DAYLIGHT
TZOFFSETFROM:-0800
TZOFFSETTO:-0700
TZNAME:PDT
DTSTART:20260308T100000
END:DAYLIGHT
BEGIN:STANDARD
TZOFFSETFROM:-0700
TZOFFSETTO:-0800
TZNAME:PST
DTSTART:20261101T090000
END:STANDARD
BEGIN:DAYLIGHT
TZOFFSETFROM:-0800
TZOFFSETTO:-0700
TZNAME:PDT
DTSTART:20270314T100000
END:DAYLIGHT
BEGIN:STANDARD
TZOFFSETFROM:-0700
TZOFFSETTO:-0800
TZNAME:PST
DTSTART:20271107T090000
END:STANDARD
END:VTIMEZONE
BEGIN:VEVENT
DTSTART;TZID=America/Los_Angeles:20260421T090000
DTEND;TZID=America/Los_Angeles:20260421T094000
DTSTAMP:20260421T011410
CREATED:20260128T215439Z
LAST-MODIFIED:20260128T215646Z
UID:10011332-1776762000-1776764400@seattleinsight.org
SUMMARY:Weekly Tuesday Guided Meditation
DESCRIPTION:These drop-in sits are offered by Tim Geil and often include a 30 minute lightly guided meditation and discussion. They are suitable for both beginning and experienced practitioners. We welcome you to join us anytime. \nRegistration & Donation\nRegistration is not needed for this event. The suggested donation is $5\, plus teacher dana. Dana is a term for generosity\, or freely offered giving. You can read more about dana here. \nPlease use your best efforts to offer the suggested donation or another heartfelt amount. All are welcome regardless of the ability to pay. \nDana for both Seattle Insight and the teachers can be offered online or in person.
URL:https://seattleinsight.org/event/weekly-tuesday-guided-meditation/2026-04-21/
LOCATION:Online Only Event\, Zoom
CATEGORIES:Drop In Meditation
ATTACH;FMTTYPE=image/jpeg:https://seattleinsight.org/wp-content/uploads/2024/07/Tim-Geil-full-res-500.jpg
ORGANIZER;CN="Tim Geil%2C Guiding Teacher":MAILTO:tim.geil@seattleinsight.org
GEO:47.65632;-122.31895
X-APPLE-STRUCTURED-LOCATION;VALUE=URI;X-ADDRESS=Online Only Event Zoom;X-APPLE-RADIUS=500;X-TITLE=Zoom:geo:-122.31895,47.65632
END:VEVENT
BEGIN:VEVENT
DTSTART;TZID=America/Los_Angeles:20260421T190000
DTEND;TZID=America/Los_Angeles:20260421T210000
DTSTAMP:20260421T011410
CREATED:20251008T011750Z
LAST-MODIFIED:20251222T173233Z
UID:10009398-1776798000-1776805200@seattleinsight.org
SUMMARY:Eastside Insight Meditation Group (In Person & Online)
DESCRIPTION:Eastside Insight sits begin with a 40 minute meditation\, followed by a check-in\, Dharma talk and discussion. We meditate together and explore the teachings of the Buddha\, based on the suttas and the Dharma of wise Theravada teachers. The group is warm and supportive\, with an emphasis on communication. \nRegistration & Donation\nRegistration is not needed for this event. The suggested donation is $5\, plus teacher dana. Dana is a term for generosity\, or freely offered giving. You can read more about dana here. \nPlease use your best efforts to offer the suggested donation or another heartfelt amount. All are welcome regardless of the ability to pay. \nDana for both Seattle Insight and the Teachers can be offered online or in person.
URL:https://seattleinsight.org/event/eastside-meditation-group-in-person-online/2026-04-21/
LOCATION:Northlake Unitarian Universalist Church Chapel (Hybrid)\, 315 3rd Ave S.\, Kirkland\, WA\, 98033\, United States
CATEGORIES:Eastside Sit,Weekly Dharma & Meditation
ATTACH;FMTTYPE=image/jpeg:https://seattleinsight.org/wp-content/uploads/2021/05/Steve-Wilhelm-500x500-1.jpg
ORGANIZER;CN="Steve Wilhelm":MAILTO:stevellen95@comcast.net
GEO:47.673093;-122.2016681
X-APPLE-STRUCTURED-LOCATION;VALUE=URI;X-ADDRESS=Northlake Unitarian Universalist Church Chapel (Hybrid) 315 3rd Ave S. Kirkland WA 98033 United States;X-APPLE-RADIUS=500;X-TITLE=315 3rd Ave S.:geo:-122.2016681,47.673093
END:VEVENT
BEGIN:VEVENT
DTSTART;TZID=America/Los_Angeles:20260421T190000
DTEND;TZID=America/Los_Angeles:20260421T210000
DTSTAMP:20260421T011410
CREATED:20260126T173945Z
LAST-MODIFIED:20260417T014232Z
UID:10011305-1776798000-1776805200@seattleinsight.org
SUMMARY:Introduction to Meditation Class Series (In-Person & Online)
DESCRIPTION:Insight Meditation\, also known as mindfulness or vipassana meditation\, comes from the early Buddhist tradition. Through learning to bring a steady and spacious awareness to direct experience\, moment by moment\, the practice aims to free the mind from the distortions of self-centeredness\, negativity\, and confusion. Seeing life as a constantly changing process\, one begins to accept pleasure and pain\, fear and joy\, and all aspects of life\, with increasing balance\, compassion\, and freedom. \nThis six-week series offers participants teachings about what Insight Meditation is\, how it works\, and how to do it. The focus is on bringing insight and loving-kindness practices into daily life\, both on and off the meditation cushion.  Many people take the class more than once\, to refresh and strengthen their existing practice.   \nThis class will include: \n\nGuided meditation instruction\nSitting and walking meditation practice\nMeditation posture and techniques\nTalks and guidance on understanding the principles of meditation\nGroup discussions\nWeekly practice suggestions\nDaylong meditation retreat (see date at top of the page)\n\nAll class dates are listed above. \nRegistration and Sliding Scale \nNote: Registration is required for this class\, and closes after the second class. Please register below. \nAffordability and access are at the heart of our values. No one is turned away for lack of funds. The “suggested” donation for the six-week series is $90\, which includes the day of mindfulness. A “supported” donation of $60 is also acceptable\, if this better fits your budget. If you wish to support another student’s registration fees\, you are invited to donate $120 for the series. You are welcome to offer what is right given your circumstances. \nPlease consider offering teacher dana\, a term for generosity\, during the course of the series. None of your registration donations go directly to the teacher. \nIf you need more information about this class series\, or if you have a question for the teacher\, please contact registrar@seattleinsight.org.
URL:https://seattleinsight.org/event/introductory-meditation-class-series-april-2026-2/
LOCATION:Seattle Insight Meditation Center & Zoom\, 4001 9th Ave NE\, Seattle\, WA\, 98105\, United States
CATEGORIES:Classes,Featured,Introductory Meditation
ATTACH;FMTTYPE=image/jpeg:https://seattleinsight.org/wp-content/uploads/2024/07/Tim-Geil-full-res-500.jpg
ORGANIZER;CN="Tim Geil%2C Guiding Teacher":MAILTO:tim.geil@seattleinsight.org
GEO:47.6561817;-122.3190306
X-APPLE-STRUCTURED-LOCATION;VALUE=URI;X-ADDRESS=Seattle Insight Meditation Center & Zoom 4001 9th Ave NE Seattle WA 98105 United States;X-APPLE-RADIUS=500;X-TITLE=4001 9th Ave NE:geo:-122.3190306,47.6561817
END:VEVENT
BEGIN:VEVENT
DTSTART;TZID=America/Los_Angeles:20260422T120000
DTEND;TZID=America/Los_Angeles:20260422T130000
DTSTAMP:20260421T011410
CREATED:20260103T015800Z
LAST-MODIFIED:20260206T044343Z
UID:10010994-1776859200-1776862800@seattleinsight.org
SUMMARY:Stillpoint Sit
DESCRIPTION:Join us for a collective pause on Wednesdays at noon\, and invite a return to stillness in the midst of the momentum and busy-ness of the day. \nKeri and Shawn will offer a 10 minute dharmette (short reflection)\, followed by 30 minutes of sitting meditation\, and an open space for any practice questions or responses. \nFeel free to bring lunch if you’d like to eat at the center before or after the sit. \nRegistration & Donation \nRegistration is not needed for this event. The suggested donation is $5\, plus teacher dana. Dana is a term for generosity\, or freely offered giving. You can read more about dana here. \nPlease use your best efforts to offer the suggested donation or another heartfelt amount. All are welcome regardless of the ability to pay. \nDana for both Seattle Insight and the teachers can be offered online or in person.
URL:https://seattleinsight.org/event/stillpoint-sit/2026-04-22/
LOCATION:Seattle Insight Meditation Center\, 4001 9th Ave. NE\, Seattle\, WA\, 98105\, United States
CATEGORIES:Assistant Teachers,Drop In Meditation,Local Dharma Leaders,Weekly Dharma & Meditation
ATTACH;FMTTYPE=image/jpeg:https://seattleinsight.org/wp-content/uploads/2026/01/Keri-Pederson_Shawn-Holmes-comp.jpg
ORGANIZER;CN="Keri Pederson%2C Senior Teacher":MAILTO:keri@seattleinsight.org
GEO:47.6561542;-122.319025
X-APPLE-STRUCTURED-LOCATION;VALUE=URI;X-ADDRESS=Seattle Insight Meditation Center 4001 9th Ave. NE Seattle WA 98105 United States;X-APPLE-RADIUS=500;X-TITLE=4001 9th Ave. NE:geo:-122.319025,47.6561542
END:VEVENT
BEGIN:VEVENT
DTSTART;TZID=America/Los_Angeles:20260422T190000
DTEND;TZID=America/Los_Angeles:20260422T203000
DTSTAMP:20260421T011410
CREATED:20251219T195912Z
LAST-MODIFIED:20251222T024202Z
UID:10010655-1776884400-1776889800@seattleinsight.org
SUMMARY:Under 40 Practice Group (Online)
DESCRIPTION:Under 40 is an ongoing practice group specifically for people in their 20’s and 30’s. The 2nd Wednesdays of the month are led by Keri Pederson (meeting both online and in person)\, and the 4th Wednesdays are led by rotating facilitators (meeting online only). The group starts with a 30 minute sitting meditation\, followed by a short reflection and discussion. An introduction to Insight Meditation\, or mindfulness meditation\, is helpful but not required \nRegistration & Donation\nRegistration is not needed for this event. The suggested donation is $5\, plus teacher dana. Dana is a term for generosity\, or freely-offered giving. You can read more about dana here. \nPlease use your best efforts to offer the suggested donation or another heartfelt amount. All are welcome regardless of the ability to pay. \nDana for both Seattle Insight and the Teachers can be offered online or in-person.
URL:https://seattleinsight.org/event/under-40-practice-group-online-4/2026-04-22/
LOCATION:Online Only Event\, Zoom
CATEGORIES:Under 40 Online,Weekly Dharma & Meditation
ATTACH;FMTTYPE=image/jpeg:https://seattleinsight.org/wp-content/uploads/2020/08/Keri-Pederson_2024_500.jpg
ORGANIZER;CN="Keri Pederson%2C Senior Teacher":MAILTO:keri@seattleinsight.org
GEO:47.65632;-122.31895
X-APPLE-STRUCTURED-LOCATION;VALUE=URI;X-ADDRESS=Online Only Event Zoom;X-APPLE-RADIUS=500;X-TITLE=Zoom:geo:-122.31895,47.65632
END:VEVENT
BEGIN:VEVENT
DTSTART;TZID=America/Los_Angeles:20260423T090000
DTEND;TZID=America/Los_Angeles:20260423T094000
DTSTAMP:20260421T011410
CREATED:20251222T024309Z
LAST-MODIFIED:20260126T183745Z
UID:10010021-1776934800-1776937200@seattleinsight.org
SUMMARY:Weekly Thursday Guided Meditation
DESCRIPTION:These drop-in sits are offered by Seattle Insight Assistant Teachers and often include a 30 minute lightly guided meditation and discussion. They are suitable for both beginning and experienced practitioners. We welcome you to join us anytime. \nRegistration & Donation\nRegistration is not needed for this event. The suggested donation is $5\, plus teacher dana. Dana is a term for generosity\, or freely offered giving. You can read more about dana here. \nPlease use your best efforts to offer the suggested donation or another heartfelt amount. All are welcome regardless of the ability to pay. \nDana for both Seattle Insight and the teachers can be offered online or in person.
URL:https://seattleinsight.org/event/weekly-thursday-guided-meditation-4-2/2026-04-23/
LOCATION:Online Only Event\, Zoom
CATEGORIES:Assistant Teachers,Drop In Meditation,Local Dharma Leaders,Thursday Morning Leads
ATTACH;FMTTYPE=image/jpeg:https://seattleinsight.org/wp-content/uploads/2024/05/thursday-morning-teachers.jpg
GEO:47.65632;-122.31895
X-APPLE-STRUCTURED-LOCATION;VALUE=URI;X-ADDRESS=Online Only Event Zoom;X-APPLE-RADIUS=500;X-TITLE=Zoom:geo:-122.31895,47.65632
END:VEVENT
BEGIN:VEVENT
DTSTART;TZID=America/Los_Angeles:20260423T183000
DTEND;TZID=America/Los_Angeles:20260423T203000
DTSTAMP:20260421T011410
CREATED:20251219T042534Z
LAST-MODIFIED:20251222T025323Z
UID:10007186-1776969000-1776976200@seattleinsight.org
SUMMARY:Thursday Night Sangha (Online)
DESCRIPTION:The Thursday Night Sangha is a drop-in group dedicated to supporting the meditation practice of people living in the Seattle area and beyond. Previous vipassana practice and/or previous attendance at a beginning meditation class is helpful but not essential. A 30 minute sit begins at 6:30 PM with a short Dharma talk and open discussion following. More information can be found on the Thursday Night Sangha page where you can also subscribe to Tuere Sala’s newsletter for monthly blog posts. \nRegistration & Donation\nRegistration is not needed for this event. The suggested donation is $5\, plus teacher dana. Dana is a term for generosity\, or freely offered giving. You can read more about dana here. \nPlease use your best efforts to offer the suggested donation or another heartfelt amount. All are welcome regardless of the ability to pay. \nDana for both Seattle Insight and the Teachers can be offered online or in person.
URL:https://seattleinsight.org/event/thursday-night-sangha-2-3/2026-04-23/
LOCATION:Online Only Event\, Zoom
CATEGORIES:Thursday Night Sit,Weekly Dharma & Meditation
ATTACH;FMTTYPE=image/jpeg:https://seattleinsight.org/wp-content/uploads/2020/06/20211025-Tuere-Sala.jpg
ORGANIZER;CN="Tuere Sala%2C Guiding Teacher":MAILTO:tuere@tueresala.org
GEO:47.65632;-122.31895
X-APPLE-STRUCTURED-LOCATION;VALUE=URI;X-ADDRESS=Online Only Event Zoom;X-APPLE-RADIUS=500;X-TITLE=Zoom:geo:-122.31895,47.65632
END:VEVENT
BEGIN:VEVENT
DTSTART;TZID=America/Los_Angeles:20260425T130000
DTEND;TZID=America/Los_Angeles:20260425T150000
DTSTAMP:20260421T011410
CREATED:20260324T014825Z
LAST-MODIFIED:20260324T125105Z
UID:10012033-1777122000-1777129200@seattleinsight.org
SUMMARY:Walk in silence for Peace\, for the Earth
DESCRIPTION:Join members of Seattle Insight Meditation Climate Action Group to walk in silence around Greenlake sending messages of peace and care for our Earth\, in recognition of the Earth Day month of April and the urgent need for peace in the world.  We’ll walk in single file\, in Noble Silence. The walk is 2.8 miles; join us for part or all. Children and dogs (leashed) are welcome. \nPlease RSVP below so we know how many to expect (group size is limited)\, and for additional information.
URL:https://seattleinsight.org/event/walk-in-silence-for-peace-for-the-earth/
LOCATION:Green Lake Park\, Green Lake Park\, Seattle\, WA\, 98115\, United States
CATEGORIES:Affinity Groups,Featured
ATTACH;FMTTYPE=image/jpeg:https://seattleinsight.org/wp-content/uploads/2026/03/inviting-place-to-just-3978433196.jpg
ORGANIZER;CN="Climate Action Group":MAILTO:ken@seattleinsight.org
GEO:47.68071;-122.32735
X-APPLE-STRUCTURED-LOCATION;VALUE=URI;X-ADDRESS=Green Lake Park Green Lake Park Seattle WA 98115 United States;X-APPLE-RADIUS=500;X-TITLE=Green Lake Park:geo:-122.32735,47.68071
END:VEVENT
BEGIN:VEVENT
DTSTART;TZID=America/Los_Angeles:20260426T100000
DTEND;TZID=America/Los_Angeles:20260426T113000
DTSTAMP:20260421T011410
CREATED:20251222T024600Z
LAST-MODIFIED:20251222T024601Z
UID:10007442-1777197600-1777203000@seattleinsight.org
SUMMARY:Weekly Sunday Morning Sit & Dharma Talk (Online)
DESCRIPTION:Sunday morning online sits at Seattle Insight starts with a lightly guided 40 minute meditation\, followed by a Dharma talk and discussion. \nSee the Sunday Sit Resources page here! \nRegistration & Donation\nRegistration is not needed for this event. The suggested donation is $5\, plus teacher dana. Dana is a term for generosity\, or freely-offered giving. You can read more about dana here. \nPlease use your best efforts to offer the suggested donation or another heartfelt amount. All are welcome regardless of the ability to pay. \nDana for both Seattle Insight and the Teachers can be offered online or in-person.
URL:https://seattleinsight.org/event/sunday-morning-sit-3-2-3-7/2026-04-26/
LOCATION:Online Only Event\, Zoom
CATEGORIES:Assistant Teachers,Sunday Sit,Weekly Dharma & Meditation
ATTACH;FMTTYPE=image/jpeg:https://seattleinsight.org/wp-content/uploads/2025/09/dawn-3253133_1280-copy.jpg
GEO:47.65632;-122.31895
X-APPLE-STRUCTURED-LOCATION;VALUE=URI;X-ADDRESS=Online Only Event Zoom;X-APPLE-RADIUS=500;X-TITLE=Zoom:geo:-122.31895,47.65632
END:VEVENT
BEGIN:VEVENT
DTSTART;TZID=America/Los_Angeles:20260427T070000
DTEND;TZID=America/Los_Angeles:20260427T073000
DTSTAMP:20260421T011410
CREATED:20260216T173957Z
LAST-MODIFIED:20260216T173957Z
UID:10011604-1777273200-1777275000@seattleinsight.org
SUMMARY:Monday Morning Metta (MMM)
DESCRIPTION:Many folks start their week with Monday\, so we’ll start it off with kindness\, care\, love\, and goodwill. A rotating cast of leaders (Temira\, Judith\, Adam\, and perhaps others) will offer up a variety of forms of metta. Each week we’ll have a 30 minute sit. Sometimes\, if the leader has time\, there will be space after for questions and reflections\, but that’s totally optional for all involved. We’re there to open our hearts and create some goodness together as a sangha before we head out into the world. All experience levels are welcome! \nRegistration & Donation \nRegistration is not needed for this event. Dana is a term for generosity\, or freely offered giving. You can read more and offer dana for both Seattle Insight and the teachers here.
URL:https://seattleinsight.org/event/monday-morning-metta-mmm/2026-04-27/
LOCATION:Online Only Event\, Zoom
CATEGORIES:Drop In Meditation,Local Dharma Leaders
ATTACH;FMTTYPE=image/jpeg:https://seattleinsight.org/wp-content/uploads/2026/02/Temira-Adam-Judith.jpg
ORGANIZER;CN="Adam Currie":MAILTO:adam.currie@seattleinsight.org
GEO:47.65632;-122.31895
X-APPLE-STRUCTURED-LOCATION;VALUE=URI;X-ADDRESS=Online Only Event Zoom;X-APPLE-RADIUS=500;X-TITLE=Zoom:geo:-122.31895,47.65632
END:VEVENT
BEGIN:VEVENT
DTSTART;TZID=America/Los_Angeles:20260427T190000
DTEND;TZID=America/Los_Angeles:20260427T210000
DTSTAMP:20260421T011410
CREATED:20251222T025440Z
LAST-MODIFIED:20260211T045953Z
UID:10008754-1777316400-1777323600@seattleinsight.org
SUMMARY:Weekly Monday Meditation & Dharma (In Person & Online)
DESCRIPTION:Every Monday evening at Seattle Insight starts with a silent or lightly guided 40 minute meditation\, followed by a Dharma talk and discussion. It is recommended that those who attend have had introductory meditation instruction in mindfulness or Insight Meditation at Seattle Insight or elsewhere. Talks are offered as part of an ongoing series\, but you are welcome to attend any time. \nRegistration & Donation\nRegistration is not needed for this event. The suggested donation is $5\, plus teacher dana. Dana is a term for generosity\, or freely-offered giving. You can read more about dana here. Please use your best efforts to offer the suggested donation or another heartfelt amount. All are welcome regardless of the ability to pay. Dana for both Seattle Insight and the Teachers can be offered online or in-person. \nFriendship and Conversation (North Room 6-6:45\, last Monday of each month)\nOn the last Monday of each month we get together for Friendship and Conversation. This happens in the North Room at Seattle Insight from 6 – 6:45 PM before the sit. No RSVP is necessary\, everyone is welcome. This is not a potluck. BYO dinner or beverage if you want. You can get more information from Christy at christyhart1954@gmail.com. The sangha is the whole of the spiritual path. \nMonday Night Teaching Schedule\n\n\n\nJanuary – Transcendental Dependent Arising Overview\nJan 12 – Tuere Sala*\, 19 – Aravind Moorthy*\, 26 – Tim Geil\n\n\nFebruary – Faith\nFeb 2 – Tim Geil\, 9 – Tuere Sala*\, 16 – Nana Gyesie\, 23 – Keri Pederson\n\n\nMarch – Joy\nMar 2 – Temira Lital & Judith Avinger*\, 9 – Tuere Sala*\, 16 – Sooz Appel\, 23 – Shawn Holmes\, 30 – Tuere Sala*\n\n\nApril – Rapture/Piti\nApr 6 – Lyndal Johnson\, 13 – Tim Geil\, 20 & 27 – Tuere Sala\n\n\nMay – Tranquility\nMay 4 & 11 – Tim Geil\, 18 – Tuere Sala*\, 25 (Remembrance Ceremony – Steve Wilhelm)\n\n\nJune – Happiness\nJun 1 – Tim Geil\, 8 & 15 – Keri Pederson\, 22 – Nina Laboy\, 29 – Tim Geil\n\n\nJuly – Concentration\nJul 6 – Tim Geil\, 13 & 20 – Tuere Sala\, 27 – Tim Geil\n\n\nAugust – Knowledge & Vision\nAug 3 – Tim Geil\, 10 – Keri Pederson\, 17\, 24\, & 31 – Tim Geil\n\n\nSeptember – Disenchantment\nSep 7 – Tuere Sala*\, 14 (Forgiveness Ceremony – Tim Geil & Tuere Sala)\, 21 & 28 – Tim Geil\n\n\nOctober – Dispassion\nOct 5 – Tuere Sala*\, 12 & 19 – Tim Geil\, 26 – Tuere Sala*\n\n\nNovember – Freedom\nNov 2 – Keri Pederson\, 9 & 16 – Tim Geil\, 23 – Steve Wilhelm\, 30 – Tim Geil\n\n\nDecember – Knowledge of Ending\nDec 7 – Keri Pederson\, 14 – Vivian Su\, 21 & 28 – Tim Geil\n\n\n\n* Indicates that the teacher (or teachers) will be online\, but the evening will still have a hybrid setup.
URL:https://seattleinsight.org/event/monday-night-weekly-meditation-dharma-2-2-3-2-2-4/2026-04-27/
LOCATION:Seattle Insight Meditation Center & Zoom\, 4001 9th Ave NE\, Seattle\, WA\, 98105\, United States
CATEGORIES:Monday Night,Weekly Dharma & Meditation
ATTACH;FMTTYPE=image/jpeg:https://seattleinsight.org/wp-content/uploads/2023/11/Tim-Tuere-Keri-copy.jpg
ORGANIZER;CN="Tim Geil%2C Guiding Teacher":MAILTO:tim.geil@seattleinsight.org
GEO:47.6561817;-122.3190306
X-APPLE-STRUCTURED-LOCATION;VALUE=URI;X-ADDRESS=Seattle Insight Meditation Center & Zoom 4001 9th Ave NE Seattle WA 98105 United States;X-APPLE-RADIUS=500;X-TITLE=4001 9th Ave NE:geo:-122.3190306,47.6561817
END:VEVENT
BEGIN:VEVENT
DTSTART;TZID=America/Los_Angeles:20260428T090000
DTEND;TZID=America/Los_Angeles:20260428T094000
DTSTAMP:20260421T011410
CREATED:20260128T215439Z
LAST-MODIFIED:20260128T215646Z
UID:10011333-1777366800-1777369200@seattleinsight.org
SUMMARY:Weekly Tuesday Guided Meditation
DESCRIPTION:These drop-in sits are offered by Tim Geil and often include a 30 minute lightly guided meditation and discussion. They are suitable for both beginning and experienced practitioners. We welcome you to join us anytime. \nRegistration & Donation\nRegistration is not needed for this event. The suggested donation is $5\, plus teacher dana. Dana is a term for generosity\, or freely offered giving. You can read more about dana here. \nPlease use your best efforts to offer the suggested donation or another heartfelt amount. All are welcome regardless of the ability to pay. \nDana for both Seattle Insight and the teachers can be offered online or in person.
URL:https://seattleinsight.org/event/weekly-tuesday-guided-meditation/2026-04-28/
LOCATION:Online Only Event\, Zoom
CATEGORIES:Drop In Meditation
ATTACH;FMTTYPE=image/jpeg:https://seattleinsight.org/wp-content/uploads/2024/07/Tim-Geil-full-res-500.jpg
ORGANIZER;CN="Tim Geil%2C Guiding Teacher":MAILTO:tim.geil@seattleinsight.org
GEO:47.65632;-122.31895
X-APPLE-STRUCTURED-LOCATION;VALUE=URI;X-ADDRESS=Online Only Event Zoom;X-APPLE-RADIUS=500;X-TITLE=Zoom:geo:-122.31895,47.65632
END:VEVENT
BEGIN:VEVENT
DTSTART;TZID=America/Los_Angeles:20260429T120000
DTEND;TZID=America/Los_Angeles:20260429T130000
DTSTAMP:20260421T011410
CREATED:20260103T015800Z
LAST-MODIFIED:20260206T044343Z
UID:10010995-1777464000-1777467600@seattleinsight.org
SUMMARY:Stillpoint Sit
DESCRIPTION:Join us for a collective pause on Wednesdays at noon\, and invite a return to stillness in the midst of the momentum and busy-ness of the day. \nKeri and Shawn will offer a 10 minute dharmette (short reflection)\, followed by 30 minutes of sitting meditation\, and an open space for any practice questions or responses. \nFeel free to bring lunch if you’d like to eat at the center before or after the sit. \nRegistration & Donation \nRegistration is not needed for this event. The suggested donation is $5\, plus teacher dana. Dana is a term for generosity\, or freely offered giving. You can read more about dana here. \nPlease use your best efforts to offer the suggested donation or another heartfelt amount. All are welcome regardless of the ability to pay. \nDana for both Seattle Insight and the teachers can be offered online or in person.
URL:https://seattleinsight.org/event/stillpoint-sit/2026-04-29/
LOCATION:Seattle Insight Meditation Center\, 4001 9th Ave. NE\, Seattle\, WA\, 98105\, United States
CATEGORIES:Assistant Teachers,Drop In Meditation,Local Dharma Leaders,Weekly Dharma & Meditation
ATTACH;FMTTYPE=image/jpeg:https://seattleinsight.org/wp-content/uploads/2026/01/Keri-Pederson_Shawn-Holmes-comp.jpg
ORGANIZER;CN="Keri Pederson%2C Senior Teacher":MAILTO:keri@seattleinsight.org
GEO:47.6561542;-122.319025
X-APPLE-STRUCTURED-LOCATION;VALUE=URI;X-ADDRESS=Seattle Insight Meditation Center 4001 9th Ave. NE Seattle WA 98105 United States;X-APPLE-RADIUS=500;X-TITLE=4001 9th Ave. NE:geo:-122.319025,47.6561542
END:VEVENT
BEGIN:VEVENT
DTSTART;TZID=America/Los_Angeles:20260430T090000
DTEND;TZID=America/Los_Angeles:20260430T094000
DTSTAMP:20260421T011410
CREATED:20251222T024309Z
LAST-MODIFIED:20260126T183745Z
UID:10010022-1777539600-1777542000@seattleinsight.org
SUMMARY:Weekly Thursday Guided Meditation
DESCRIPTION:These drop-in sits are offered by Seattle Insight Assistant Teachers and often include a 30 minute lightly guided meditation and discussion. They are suitable for both beginning and experienced practitioners. We welcome you to join us anytime. \nRegistration & Donation\nRegistration is not needed for this event. The suggested donation is $5\, plus teacher dana. Dana is a term for generosity\, or freely offered giving. You can read more about dana here. \nPlease use your best efforts to offer the suggested donation or another heartfelt amount. All are welcome regardless of the ability to pay. \nDana for both Seattle Insight and the teachers can be offered online or in person.
URL:https://seattleinsight.org/event/weekly-thursday-guided-meditation-4-2/2026-04-30/
LOCATION:Online Only Event\, Zoom
CATEGORIES:Assistant Teachers,Drop In Meditation,Local Dharma Leaders,Thursday Morning Leads
ATTACH;FMTTYPE=image/jpeg:https://seattleinsight.org/wp-content/uploads/2024/05/thursday-morning-teachers.jpg
GEO:47.65632;-122.31895
X-APPLE-STRUCTURED-LOCATION;VALUE=URI;X-ADDRESS=Online Only Event Zoom;X-APPLE-RADIUS=500;X-TITLE=Zoom:geo:-122.31895,47.65632
END:VEVENT
BEGIN:VEVENT
DTSTART;TZID=America/Los_Angeles:20260430T183000
DTEND;TZID=America/Los_Angeles:20260430T203000
DTSTAMP:20260421T011410
CREATED:20251219T042534Z
LAST-MODIFIED:20251222T025323Z
UID:10007187-1777573800-1777581000@seattleinsight.org
SUMMARY:Thursday Night Sangha (Online)
DESCRIPTION:The Thursday Night Sangha is a drop-in group dedicated to supporting the meditation practice of people living in the Seattle area and beyond. Previous vipassana practice and/or previous attendance at a beginning meditation class is helpful but not essential. A 30 minute sit begins at 6:30 PM with a short Dharma talk and open discussion following. More information can be found on the Thursday Night Sangha page where you can also subscribe to Tuere Sala’s newsletter for monthly blog posts. \nRegistration & Donation\nRegistration is not needed for this event. The suggested donation is $5\, plus teacher dana. Dana is a term for generosity\, or freely offered giving. You can read more about dana here. \nPlease use your best efforts to offer the suggested donation or another heartfelt amount. All are welcome regardless of the ability to pay. \nDana for both Seattle Insight and the Teachers can be offered online or in person.
URL:https://seattleinsight.org/event/thursday-night-sangha-2-3/2026-04-30/
LOCATION:Online Only Event\, Zoom
CATEGORIES:Thursday Night Sit,Weekly Dharma & Meditation
ATTACH;FMTTYPE=image/jpeg:https://seattleinsight.org/wp-content/uploads/2020/06/20211025-Tuere-Sala.jpg
ORGANIZER;CN="Tuere Sala%2C Guiding Teacher":MAILTO:tuere@tueresala.org
GEO:47.65632;-122.31895
X-APPLE-STRUCTURED-LOCATION;VALUE=URI;X-ADDRESS=Online Only Event Zoom;X-APPLE-RADIUS=500;X-TITLE=Zoom:geo:-122.31895,47.65632
END:VEVENT
END:VCALENDAR